BEGIN:VCALENDAR
VERSION:2.0
PRODID:-//BASIC Studios - ECPv6.15.20//NONSGML v1.0//EN
CALSCALE:GREGORIAN
METHOD:PUBLISH
X-WR-CALNAME:BASIC Studios
X-ORIGINAL-URL:https://basicstudios.us
X-WR-CALDESC:Events for BASIC Studios
REFRESH-INTERVAL;VALUE=DURATION:PT1H
X-Robots-Tag:noindex
X-PUBLISHED-TTL:PT1H
BEGIN:VTIMEZONE
TZID:America/Los_Angeles
BEGIN:DAYLIGHT
TZOFFSETFROM:-0800
TZOFFSETTO:-0700
TZNAME:PDT
DTSTART:20250309T100000
END:DAYLIGHT
BEGIN:STANDARD
TZOFFSETFROM:-0700
TZOFFSETTO:-0800
TZNAME:PST
DTSTART:20251102T090000
END:STANDARD
BEGIN:DAYLIGHT
TZOFFSETFROM:-0800
TZOFFSETTO:-0700
TZNAME:PDT
DTSTART:20260308T100000
END:DAYLIGHT
BEGIN:STANDARD
TZOFFSETFROM:-0700
TZOFFSETTO:-0800
TZNAME:PST
DTSTART:20261101T090000
END:STANDARD
BEGIN:DAYLIGHT
TZOFFSETFROM:-0800
TZOFFSETTO:-0700
TZNAME:PDT
DTSTART:20270314T100000
END:DAYLIGHT
BEGIN:STANDARD
TZOFFSETFROM:-0700
TZOFFSETTO:-0800
TZNAME:PST
DTSTART:20271107T090000
END:STANDARD
END:VTIMEZONE
BEGIN:VEVENT
DTSTART;TZID=America/Los_Angeles:20260912T130000
DTEND;TZID=America/Los_Angeles:20260912T150000
DTSTAMP:20260420T054057
CREATED:20260303T125539Z
LAST-MODIFIED:20260409T015708Z
UID:12638-1789218000-1789225200@basicstudios.us
SUMMARY:Survivor Summit
DESCRIPTION:The Survivor Summit is an annual virtual gathering dedicated to suicide awareness and holistic mental well-being.
URL:https://basicstudios.us/event/survivor-summit/
LOCATION:Zoom
ORGANIZER;CN="BASIC Studios":MAILTO:executives@basicstudios.us
END:VEVENT
END:VCALENDAR